BEGIN:VCALENDAR
VERSION:2.0
PRODID:-//Motoracer Magazine - ECPv6.15.14//NONSGML v1.0//EN
CALSCALE:GREGORIAN
METHOD:PUBLISH
X-WR-CALNAME:Motoracer Magazine
X-ORIGINAL-URL:https://motoracermagazine.org
X-WR-CALDESC:Eventos para Motoracer Magazine
REFRESH-INTERVAL;VALUE=DURATION:PT1H
X-Robots-Tag:noindex
X-PUBLISHED-TTL:PT1H
BEGIN:VTIMEZONE
TZID:America/Bogota
BEGIN:STANDARD
TZOFFSETFROM:-0500
TZOFFSETTO:-0500
TZNAME:-05
DTSTART:20220101T000000
END:STANDARD
END:VTIMEZONE
BEGIN:VTIMEZONE
TZID:UTC
BEGIN:STANDARD
TZOFFSETFROM:+0000
TZOFFSETTO:+0000
TZNAME:UTC
DTSTART:20210101T000000
END:STANDARD
END:VTIMEZONE
BEGIN:VEVENT
DTSTART;TZID=America/Bogota:20230324T080000
DTEND;TZID=America/Bogota:20230324T090000
DTSTAMP:20260419T084724
CREATED:20221231T013119Z
LAST-MODIFIED:20221231T013742Z
UID:19786-1679644800-1679648400@motoracermagazine.org
SUMMARY:Gran Premio de Portugal
DESCRIPTION:La temporada 2023 de MotoGP será la 75.ª edición de la categoría principal del Campeonato del Mundo de Motociclismo. Autódromo Internacional do Algarve\, Portimão
URL:https://motoracermagazine.org/eventos/19786/
ATTACH;FMTTYPE=image/webp:https://motoracermagazine.org/wp-content/uploads/2022/12/Portimao.webp
END:VEVENT
BEGIN:VEVENT
DTSTART;TZID=UTC:20220807T080000
DTEND;TZID=UTC:20220807T170000
DTSTAMP:20260419T084724
CREATED:20220629T073822Z
LAST-MODIFIED:20220629T074451Z
UID:19276-1659859200-1659891600@motoracermagazine.org
SUMMARY:Monster Energy British Grand Prix
DESCRIPTION:En Agosto volvemos a las carreras de Moto Gp \, y la primera es en Inglaterra. \nFamoso mundialmente por su larga historia de carreras de motor de dos y cuatro ruedas de alto octanaje y adrenalina\, Silverstone alberga el último festival familiar y una verdadera celebración del automovilismo perfecto para aficionados y novatos por igual. \nEl primer Gran Premio de motociclismo de Silverstone se celebró en 1977 y desde entonces ha sido el campo de juego de los campeones. El Reino Unido ha producido algunos de los mejores pilotos en la historia de MotoGP: Mike Hailwood\, John Surtees\, Phil Read y Barry Sheene\, ¡solo algunos de los británicos que se han ganado los corazones de las multitudes y los campeonatos!
URL:https://motoracermagazine.org/eventos/monster-energy-british-grand-prix/
ATTACH;FMTTYPE=image/jpeg:https://motoracermagazine.org/wp-content/uploads/2022/06/inglaterra.jpeg
END:VEVENT
END:VCALENDAR